BEGIN:VCALENDAR
VERSION:2.0
PRODID:-//Rahasya - ECPv6.1.3//NONSGML v1.0//EN
CALSCALE:GREGORIAN
METHOD:PUBLISH
X-WR-CALNAME:Rahasya
X-ORIGINAL-URL:https://www.rahasya.com
X-WR-CALDESC:Events for Rahasya
REFRESH-INTERVAL;VALUE=DURATION:PT1H
X-Robots-Tag:noindex
X-PUBLISHED-TTL:PT1H
BEGIN:VTIMEZONE
TZID:UTC
BEGIN:STANDARD
TZOFFSETFROM:+0000
TZOFFSETTO:+0000
TZNAME:UTC
DTSTART:20240101T000000
END:STANDARD
TZID:Europe/Helsinki
BEGIN:DAYLIGHT
TZOFFSETFROM:+0200
TZOFFSETTO:+0300
TZNAME:EEST
DTSTART:20230326T010000
END:DAYLIGHT
BEGIN:STANDARD
TZOFFSETFROM:+0300
TZOFFSETTO:+0200
TZNAME:EET
DTSTART:20231029T010000
END:STANDARD
END:VTIMEZONE
BEGIN:VEVENT
DTSTART;VALUE=DATE:20250404
DTEND;VALUE=DATE:20250412
DTSTAMP:20260425T223350
CREATED:20240620T021641Z
LAST-MODIFIED:20240814T041105Z
UID:4007-1743724800-1744415999@www.rahasya.com
SUMMARY:The Art of Love and Intimacy\, Tantra Alchemy for Couples in Bali
DESCRIPTION:https://www.rahasya.com/wp-content/uploads/2024/06/rahasya-1.mp4\nThe Art of Love and Intimacy\, Tantra Alchemy for Couples \nis a sacred exploration to support couples on their journey towards love\, intimacy and wholeness. \nIt is a gentle re-education in sex and love and\, for some perhaps\, a very first education. We carry many beliefs\, ideas\, dreams and hopes around sex that we have adopted from the examples of our parents and peers\, movies and books. We believe we have to please and satisfy the other and work towards a good climax. We use sex as a means to reach an end\, incapable of relishing the depth of each moment. \nThe Art of Love and Intimacy supports the partners to move from habits\, expectations and ideas into the discovery of love\, presence and energy now. \nIt is an invitation to discover and rediscover the sexual energy between lovers\, not only to make sex more pleasant and ecstatic\, but also to use it as a powerful healing force and source for love and transformation. \nMan and woman naturally are living in different polarities. These create attraction and also lead to most of the difficulties in relationship. The polarities are manifested in the flow of energy between the chakras (energy centers of body electricity). Due to past negative experiences this natural flow is resisted\, thus leading to fight and struggle. In unawareness we limit our love life to fixed contracts. Our sex life stays repetitive\, we become goal oriented and miss the beauty of a fulfilling moment to moment unfolding of our lovemaking. \nIn The Art of Love and Intimacy\, A Partnership in Love and Meditation for Couples\, a sacred atmosphere is created where man and woman can come together in meditation and love. They learn to relax into their natural polarity\, so that the energy flow easily finds its way into deeper and deeper layers of being. As the partners become more alert and responsive to who they are\, and live it\, they can become deeply receptive to each other. They together can move through energy blocks\, expectations and old patterns into a moment to moment rejoicing of the downs and ups in the waves of their energy dance. They become healers for each other. \nA dramatic shift happens from the doing attitude in sex towards “Being”. A deep and nourishing let go and surrender to the openings of love brings peaks of joy and valleys of deep peace. They are equally welcome\, as both become a door to remembering the eternal timeless consciousness of who we are. \nDifferent Love Keys will support us on our journey: \n\nOpening to the heart\nMoving in synchronicity\nLove meditation\nExploring the Chakra map in relation to lovemaking and relating\nUnderstanding the layers of the mind and its pitfalls\, staying open in Hell\nThe woman’s home\nThe man’s home\nReceptivity\nBreath Awareness\nCommunication in presence\nDeep relaxation in the love act\nExpansion versus ejaculation\nThe peak and valley orgasm\nRefinement of the senses\nDevotion and love\nThe circle of love\nOpening the inner flute\n\nThis course is a gift for every couple that likes to open to new dimensions of love and truth and embrace relationship as a path of awakening. \nIn The Art of Love and Intimacy we respectfully explore Tantric wisdom and exercises in the group room and then send the lovers to their rooms to deepen their experience in lovemaking.
URL:https://www.rahasya.com/event/the-art-of-love-and-intimacy-tantra-alchemy-for-couples-in-bali-2/
LOCATION:Gaia Oasis\, Jalan Raya Singaraja Amlapura\, Tejakula\, Singaraja\, Bali\, 81173\, Indonesia
CATEGORIES:Relationship,Tantra
ATTACH;FMTTYPE=image/jpeg:https://www.rahasya.com/wp-content/uploads/2019/03/Heart-e1571382047120.jpg
ORGANIZER;CN="Rahasya":MAILTO:rahasyanura@gmail.com
END:VEVENT
BEGIN:VEVENT
DTSTART;VALUE=DATE:20240517
DTEND;VALUE=DATE:20240525
DTSTAMP:20260425T223350
CREATED:20220807T163109Z
LAST-MODIFIED:20230623T011611Z
UID:3953-1715904000-1716595199@www.rahasya.com
SUMMARY:The Art of Love and Intimacy\, Tantra Alchemy for Couples in Bali
DESCRIPTION:https://www.rahasya.com/wp-content/uploads/2022/08/Rahasya-Web.mp4\nThe Art of Love and Intimacy\, Tantra Alchemy for Couples\n \nis a sacred exploration to support couples on their journey towards love\, intimacy and wholeness. \nIt is a gentle re-education in sex and love and\, for some perhaps\, a very first education. We carry many beliefs\, ideas\, dreams and hopes around sex that we have adopted from the examples of our parents and peers\, movies and books. We believe we have to please and satisfy the other and work towards a good climax. We use sex as a means to reach an end\, incapable of relishing the depth of each moment. \nThe Art of Love and Intimacy supports the partners to move from habits\, expectations and ideas into the discovery of love\, presence and energy now. \nIt is an invitation to discover and rediscover the sexual energy between lovers\, not only to make sex more pleasant and ecstatic\, but also to use it as a powerful healing force and source for love and transformation. \nMan and woman naturally are living in different polarities. These create attraction and also lead to most of the difficulties in relationship. The polarities are manifested in the flow of energy between the chakras (energy centers of body electricity). Due to past negative experiences this natural flow is resisted\, thus leading to fight and struggle. In unawareness we limit our love life to fixed contracts. Our sex life stays repetitive\, we become goal oriented and miss the beauty of a fulfilling moment to moment unfolding of our lovemaking. \nIn The Art of Love and Intimacy\, A Partnership in Love and Meditation for Couples\, a sacred atmosphere is created where man and woman can come together in meditation and love. They learn to relax into their natural polarity\, so that the energy flow easily finds its way into deeper and deeper layers of being. As the partners become more alert and responsive to who they are\, and live it\, they can become deeply receptive to each other. They together can move through energy blocks\, expectations and old patterns into a moment to moment rejoicing of the downs and ups in the waves of their energy dance. They become healers for each other. \nA dramatic shift happens from the doing attitude in sex towards “Being”. A deep and nourishing let go and surrender to the openings of love brings peaks of joy and valleys of deep peace. They are equally welcome\, as both become a door to remembering the eternal timeless consciousness of who we are. \nDifferent Love Keys will support us on our journey: \n\nOpening to the heart\nMoving in synchronicity\nLove meditation\nExploring the Chakra map in relation to lovemaking and relating\nUnderstanding the layers of the mind and its pitfalls\, staying open in Hell\nThe woman’s home\nThe man’s home\nReceptivity\nBreath Awareness\nCommunication in presence\nDeep relaxation in the love act\nExpansion versus ejaculation\nThe peak and valley orgasm\nRefinement of the senses\nDevotion and love\nThe circle of love\nOpening the inner flute\n\nThis course is a gift for every couple that likes to open to new dimensions of love and truth and embrace relationship as a path of awakening. \nIn The Art of Love and Intimacy we respectfully explore Tantric wisdom and exercises in the group room and then send the lovers to their rooms to deepen their experience in lovemaking.
URL:https://www.rahasya.com/event/the-art-of-love-and-intimacy-tantra-alchemy-for-couples-in-bali/
LOCATION:Gaia Oasis\, Jalan Raya Singaraja Amlapura\, Tejakula\, Singaraja\, Bali\, 81173\, Indonesia
CATEGORIES:Relationship,Tantra
ATTACH;FMTTYPE=image/jpeg:https://www.rahasya.com/wp-content/uploads/2021/04/Lovin-Couple-3.jpg
ORGANIZER;CN="Rahasya":MAILTO:rahasyanura@gmail.com
END:VEVENT
BEGIN:VEVENT
DTSTART;VALUE=DATE:20231025
DTEND;VALUE=DATE:20231030
DTSTAMP:20260425T223350
CREATED:20230623T011203Z
LAST-MODIFIED:20230623T011203Z
UID:3986-1698192000-1698623999@www.rahasya.com
SUMMARY:The Art of Love\, a deep and personal process in Chiang Mai\, Thailand
DESCRIPTION:The Art of Love in Chiang Mai\, Thailand\, with Rahasya \nLife is relationship\, and the search for relationship is for many the search for love\, peace and fulfilment. \nNature has given us our sexual energy\, a healthy and vibrant aliveness in the body that has an infinite potential for transformation and awakening. \nYet there is so much ignorance\, misunderstanding\, expectations\, distortions\, fantasies and dreams around sexual energy\, due to our upbringing and social conditioning\, that we have experienced exploitation\, misuse\, abuse\, frustrations\, disappointments\, power-trips and all the other problems that arise in relationship.Many of us do have a sense\, that sexual energy is incredibly beautiful\, creative\, innocent\, alive and joyful\, but miss the insights on how to access its beauty? How can we celebrate the fullness of life and learn “The Art of Love” \nIn this course we will \n\nExplore relationship and love in its depth\nlearn to celebrate our sexual energy and allow it to transform into love\, further into devotion\, and ultimately to recognize the divine in everything.\nmove from expectations and romantic dreams to the realisation of the beauty of reality in the here and now.\nrecognise that love is freedom\, and find the courage to be free.\n\nThe explorations include \n\nOpening the Heart and discovering Synchronicity\nTeachings and explorations of the layers of the mind\, and their pitfalls of egoic identification\nTeachings and explorations on the 7 chakras\, their polarities in man and woman\, and their natural energy flow\nexperiencing different breath and movement meditations to activate the chakras\, like Ananda Mandala\, prayer Meditation\, Latihan and more\nDiscovering the secrets of receptivity\nlearning presence versus excitement\nStaying open in challenging relationship situations\nMaking Love a Meditation\nThe “Peak & Valley”\nRefinement of the Senses\nThe Woman’s “Home”\nThe Man’s “Home”\nThe mystery of “No Self”: Devotion & Love\nThe “Circle of Love\n\nDrawing on more than 35 years of experience of working with people\, Rahasya will support us on our journey towards love\, intimacy and wholeness. \nWe will Learn together in a friendly and respectful gathering for both singles and couples and benefit from each other’s experiences\, questions and explorations. \nA deep and personal process towards Awakening in Chiang Mai\, Thailand
URL:https://www.rahasya.com/event/the-art-of-love-a-deep-and-personal-process-in-chiang-mai-thailand/
LOCATION:Chiang Mai\, Thailand
CATEGORIES:Courses,Relationship,Tantra
ATTACH;FMTTYPE=image/jpeg:https://www.rahasya.com/wp-content/uploads/2019/06/IMG_1556-scaled.jpg
END:VEVENT
END:VCALENDAR