BEGIN:VCALENDAR
VERSION:2.0
PRODID:-//Rahasya - ECPv6.1.3//NONSGML v1.0//EN
CALSCALE:GREGORIAN
METHOD:PUBLISH
X-WR-CALNAME:Rahasya
X-ORIGINAL-URL:https://www.rahasya.com
X-WR-CALDESC:Events for Rahasya
REFRESH-INTERVAL;VALUE=DURATION:PT1H
X-Robots-Tag:noindex
X-PUBLISHED-TTL:PT1H
BEGIN:VTIMEZONE
TZID:UTC
BEGIN:STANDARD
TZOFFSETFROM:+0000
TZOFFSETTO:+0000
TZNAME:UTC
DTSTART:20200101T000000
END:STANDARD
TZID:Europe/Helsinki
BEGIN:DAYLIGHT
TZOFFSETFROM:+0200
TZOFFSETTO:+0300
TZNAME:EEST
DTSTART:20230326T010000
END:DAYLIGHT
BEGIN:STANDARD
TZOFFSETFROM:+0300
TZOFFSETTO:+0200
TZNAME:EET
DTSTART:20231029T010000
END:STANDARD
END:VTIMEZONE
BEGIN:VEVENT
DTSTART;TZID=UTC:20230705T173000
DTEND;TZID=UTC:20230705T193000
DTSTAMP:20260425T235827
CREATED:20230623T020114Z
LAST-MODIFIED:20230623T021918Z
UID:3992-1688578200-1688585400@www.rahasya.com
SUMMARY:Meditation and Satsang with Rahasya 5 July 2023 \, 17:30  at Urban Om\, Stockholm
DESCRIPTION:Beloved Friends\, \nEach life situation is a wonderful challenge from existence to unveil our BEING as truth\, peace\, love and freedom. Sometimes this seems impossible\, but it only seems. The word “Satsang” means meeting in truth: Come and take the challenge to unveil the truth\, to love and be free\, to tenderly embrace this moment as it is. Come\, turn in\, wake up and remember that you are a Buddha\, that you are consciousness itself\, that you are that which you are looking for. It is closer than your heartbeat\, closer than the breath\, and it is available to you now. Come and claim your birthright. \nWhen a group of people moves into presence\, into remembering\, the energy is amplified\, a field of consciousness is created where transformation happens easily and quickly. Come and be part of this Buddhafield. \nThis evening is about being fully present\, recognising the perfection of all things herenow. In the NOW\, the frantic mind activity naturally slows down\, in full presence mind stops and reality is revealed. This “stopping” is the dissolution of all problems. Come home and know that you are blessed! \nI am so much looking forward to being with you\, with Love and Blessings\, \nRahasya.
URL:https://www.rahasya.com/event/meditation-and-satsang-with-rahasya-5-july-2023-1730-at-urban-om-stockholm/
CATEGORIES:Courses,Satsang Retreats
ATTACH;FMTTYPE=image/jpeg:https://www.rahasya.com/wp-content/uploads/2020/05/IMG_0241-2019_02_26-04_46_48-UTC-scaled.jpg
END:VEVENT
BEGIN:VEVENT
DTSTART;VALUE=DATE:20230414
DTEND;VALUE=DATE:20230419
DTSTAMP:20260425T235827
CREATED:20230208T014336Z
LAST-MODIFIED:20230208T014336Z
UID:3969-1681430400-1681862399@www.rahasya.com
SUMMARY:Awakening to your True Self\, a deep and personal process in Chiang Mai\, Thailand
DESCRIPTION:A deep and personal process towards Awakening in Chiang Mai\, Thailand
URL:https://www.rahasya.com/event/awakening-to-your-true-self-the-art-of-being-with-people/
LOCATION:Chiang Mai\, Thailand
CATEGORIES:Counselling,Satsang Retreats,Trainings
ATTACH;FMTTYPE=image/jpeg:https://www.rahasya.com/wp-content/uploads/2019/06/IMG_1556-scaled.jpg
ORGANIZER;CN="Rahasya%20Fritjof%20Kraft":MAILTO:rahasyanura@gmail.com
END:VEVENT
BEGIN:VEVENT
DTSTART;VALUE=DATE:20200724
DTEND;VALUE=DATE:20200729
DTSTAMP:20260425T235827
CREATED:20190319T052135Z
LAST-MODIFIED:20200712T013800Z
UID:1034-1595548800-1595980799@www.rahasya.com
SUMMARY:Being Home\, a Silent Meditation and Satsang Retreat with Rahasya
DESCRIPTION:Beloved Friends\, \nThe beautiful presence\, the deep blissful silence and the arising of blessed divine love energy we experienced during the last silent retreats in 2019 as well as the Friday evening gatherings at my home inspired me to invite you again for a silent weekend retreat: “Being Home” with Meditation and Satsang 24-26 July 2020 at my home. \nDifferent Meditations\, silent sittings\, chanting mantras\, nature walks and open Satsangs will be an invitation to remember our true home\, to open the heart and dissolve all misunderstandings of separation. \nEach life situation is a wonderful challenge from existence to unveil our BEING as truth\, peace\, love and freedom. Sometimes this seems impossible\, but it only seems. The word “Satsang” means meeting in truth: Come and take the challenge to unveil the truth\, to love and be free\, to tenderly embrace this moment as it is. Come\, turn in\, wake up and remember that you are a Buddha\, that you are consciousness itself\, that you are that which you are looking for. It is closer than your heartbeat\, closer than the breath\, and it is available to you now. Come and claim your birthright. \nWhen a group of people moves into presence\, into remembering\, the energy is amplified\, a field of consciousness is created where transformation happens easily and quickly. Come and be part of this Buddhafield. \nThis retreat is about being fully present\, recognising the perfection of all things herenow. In the NOW\, the frantic mind activity naturally slows down\, in full presence mind stops and reality is revealed. This “stopping” is the dissolution of all problems. Come home and know that you are blessed! \nThis retreat will provide that atmosphere of loving presence\, relaxed alertness and tenderness of the heart that every being will recognise and rejoice in.\n. 
URL:https://www.rahasya.com/event/being-home-a-silent-meditation-and-satsang-retreat-with-rahasya/
LOCATION:Mevlana\, 9/42 Blin Rd\, Myocum\, NSW\, 2481\, Australia
CATEGORIES:Courses,Satsang Retreats
ATTACH;FMTTYPE=image/jpeg:https://www.rahasya.com/wp-content/uploads/2020/05/IMG_0241-2019_02_26-04_46_48-UTC-scaled.jpg
ORGANIZER;CN="Rahasya":MAILTO:rahasyanura@gmail.com
END:VEVENT
END:VCALENDAR