BEGIN:VCALENDAR
VERSION:2.0
PRODID:-//Rahasya - ECPv6.1.3//NONSGML v1.0//EN
CALSCALE:GREGORIAN
METHOD:PUBLISH
X-ORIGINAL-URL:https://www.rahasya.com
X-WR-CALDESC:Events for Rahasya
REFRESH-INTERVAL;VALUE=DURATION:PT1H
X-Robots-Tag:noindex
X-PUBLISHED-TTL:PT1H
BEGIN:VTIMEZONE
TZID:UTC
BEGIN:STANDARD
TZOFFSETFROM:+0000
TZOFFSETTO:+0000
TZNAME:UTC
DTSTART:20230101T000000
END:STANDARD
TZID:Europe/Helsinki
BEGIN:DAYLIGHT
TZOFFSETFROM:+0200
TZOFFSETTO:+0300
TZNAME:EEST
DTSTART:20190331T010000
END:DAYLIGHT
BEGIN:STANDARD
TZOFFSETFROM:+0300
TZOFFSETTO:+0200
TZNAME:EET
DTSTART:20191027T010000
END:STANDARD
BEGIN:DAYLIGHT
TZOFFSETFROM:+0200
TZOFFSETTO:+0300
TZNAME:EEST
DTSTART:20200329T010000
END:DAYLIGHT
BEGIN:STANDARD
TZOFFSETFROM:+0300
TZOFFSETTO:+0200
TZNAME:EET
DTSTART:20201025T010000
END:STANDARD
BEGIN:DAYLIGHT
TZOFFSETFROM:+0200
TZOFFSETTO:+0300
TZNAME:EEST
DTSTART:20210328T010000
END:DAYLIGHT
BEGIN:STANDARD
TZOFFSETFROM:+0300
TZOFFSETTO:+0200
TZNAME:EET
DTSTART:20211031T010000
END:STANDARD
BEGIN:DAYLIGHT
TZOFFSETFROM:+0200
TZOFFSETTO:+0300
TZNAME:EEST
DTSTART:20220327T010000
END:DAYLIGHT
BEGIN:STANDARD
TZOFFSETFROM:+0300
TZOFFSETTO:+0200
TZNAME:EET
DTSTART:20221030T010000
END:STANDARD
BEGIN:DAYLIGHT
TZOFFSETFROM:+0200
TZOFFSETTO:+0300
TZNAME:EEST
DTSTART:20230326T010000
END:DAYLIGHT
BEGIN:STANDARD
TZOFFSETFROM:+0300
TZOFFSETTO:+0200
TZNAME:EET
DTSTART:20231029T010000
END:STANDARD
END:VTIMEZONE
BEGIN:VEVENT
DTSTART;VALUE=DATE:20230804
DTEND;VALUE=DATE:20230809
DTSTAMP:20260426T022852
CREATED:20230623T110243Z
LAST-MODIFIED:20230623T110243Z
UID:3997-1691107200-1691539199@www.rahasya.com
SUMMARY:Die Kunst Du Selbst zu Sein\, The Art of Being Yourself
DESCRIPTION:Die Kunst Du Selbst zu sein: \nIn diesem Kurs tauchen wir tief in einige der wichtigsten Fragen ein die jeden Menschen tief beschäftigen \nWer Bin Ich? \nWas heißt es ich selbst zu sein? \nWie kann ich in diesem turbulenten Leben Frieden finden? \nWas ist Wahrheit? \nWas ist Liebe? \nWas ist Bewusstsein? \nWas ist Freiheit? \nIn diesem Kurs erforschen wir zunächst die Schichten unserer Identifikationen\, unserer Ego Strukturen\, von denen wir bisher geglaubt haben\, das sei „ich“\, nur um zu realisieren\, dass was immer wir denken das bin „ich“\, ein Haufen alter Glaubenssätze ist\, die wir in der Kindheit gelernt haben\, gemacht aus den Meinungen anderer. \nBis sich eines Tages der „Diamant in der Lotus“ uns offenbart\, und wir realisieren dass wir niemand anders sein können als wir sind\, wir können nur wir selbst sein. Dies ist der größte Schatz den wir finden können. \nSobald wir uns die Erlaubnis geben\, wir selbst zu sein\, geben wir auch anderen die Freiheit sie selbst zu sein. Somit berühren wir alle Beziehungen in unserem Leben.
URL:https://www.rahasya.com/event/die-kunst-du-selbst-zu-sein-the-art-of-being-yourself/
LOCATION:Gutshaus Parin\, Wirtschaftshof 1\, Parin\, Mecklenburg Vorpommern\, 23948\, Germany
CATEGORIES:Counselling,Courses
ATTACH;FMTTYPE=image/jpeg:https://www.rahasya.com/wp-content/uploads/2019/03/IMG_4550-e1560056497380.jpg
ORGANIZER;CN="Nirgunananda%20und%20Sakina%2C%20Shendo%20Nord%20Ost":MAILTO:shendo-nord-ost@shendo.de
END:VEVENT
BEGIN:VEVENT
DTSTART;VALUE=DATE:20230708
DTEND;VALUE=DATE:20230715
DTSTAMP:20260426T022852
CREATED:20210814T112401Z
LAST-MODIFIED:20230623T012003Z
UID:3921-1688774400-1689379199@www.rahasya.com
SUMMARY:Love in Action\, a Training in Counselling from the Heart and the Art of Being with People in Sweden
DESCRIPTION:A 6 DAYS TRAINING IN THE ART OF BEING WITH PEOPLE beyond Psychology \nTo know yourself as love is the first important step\, the second step is to share this love with the world. \n\n\n\n\nThis is a training to deeply understand Love in action. This mean deepening your understanding of our human to human interactions. A training for you who is working with people\, or you who simply love other human beings. As a counsellor you can only share\, what you have understood and realized yourself. This training is a deep transformative process for you  that also will give you tools of how to be with clients. You will be exploring self-inquiry\, meditation and practicing giving sessions under supervision. \nThis training is open to everyone: Counsellors\, Doctors\, Psychologists\, Nurses\, Business Consultants\, Teachers\, Bodyworkers\, Massage Therapists\, Aura Soma Therapists\, Meditation Teachers\, Healers and everyone interested in their own unfolding. \nAt the end of the training the participant will receive a certificate of completion. \nTHE TRAINING INCLUDES: \nSelf exploration as the Counsellor: \n∙ Finding the connection with one’s own heart & practicing self acceptance\n∙ Listening & communicating from the heart\n∙ Responding to the moment out of one’s source\n∙ Exploring Synchronicity\n∙ Accessing one’s intuition\n∙ Recognising one’s own issues while counselling\n∙ Learning to love one’s blind spots and identify one’s projections \nClient oriented skills: \n∙ Basic NLP and communication skills\n∙ Establishing rapport with the client and growing awareness of Counsellor /Client relationship\n∙ Pacing and leading\n∙ Identifying and clarifying the client’s issue\n∙ Identifying the client’s attitude to his/her issue: Awareness? Acceptance? Identification?\n∙ Supporting the client to connect with his/her own wisdom to solve his/her problem\n∙ Exploring the layers of the mind
URL:https://www.rahasya.com/event/love-in-action-a-training-in-counselling-from-the-heart-and-the-art-of-being-with-people-in-sweden/
LOCATION:Baravara\, Storavägen 6\, Vikarbyn\, Rättvik\, Dalarna\, 795 21\, Sweden
CATEGORIES:Counselling,Trainings
ATTACH;FMTTYPE=image/jpeg:https://www.rahasya.com/wp-content/uploads/2019/06/IMG_1556-scaled.jpg
ORGANIZER;CN="Baravara":MAILTO:info@baravara.se
END:VEVENT
BEGIN:VEVENT
DTSTART;VALUE=DATE:20230414
DTEND;VALUE=DATE:20230419
DTSTAMP:20260426T022852
CREATED:20230208T014336Z
LAST-MODIFIED:20230208T014336Z
UID:3969-1681430400-1681862399@www.rahasya.com
SUMMARY:Awakening to your True Self\, a deep and personal process in Chiang Mai\, Thailand
DESCRIPTION:A deep and personal process towards Awakening in Chiang Mai\, Thailand
URL:https://www.rahasya.com/event/awakening-to-your-true-self-the-art-of-being-with-people/
LOCATION:Chiang Mai\, Thailand
CATEGORIES:Counselling,Satsang Retreats,Trainings
ATTACH;FMTTYPE=image/jpeg:https://www.rahasya.com/wp-content/uploads/2019/06/IMG_1556-scaled.jpg
ORGANIZER;CN="Rahasya%20Fritjof%20Kraft":MAILTO:rahasyanura@gmail.com
END:VEVENT
BEGIN:VEVENT
DTSTART;VALUE=DATE:20191125
DTEND;VALUE=DATE:20191128
DTSTAMP:20260426T022852
CREATED:20190919T045223Z
LAST-MODIFIED:20190919T060224Z
UID:1634-1574640000-1574899199@www.rahasya.com
SUMMARY:Counselling from the Heart\, The Art of Being with People part 1
DESCRIPTION:A Comprehensive Training in Counselling Skills beyond Psychology
URL:https://www.rahasya.com/event/counselling-from-the-heart-the-art-of-being-with-people-part-1/
LOCATION:Jeju Island\, South Korea\, Korea\, Republic of
CATEGORIES:Counselling,Trainings
ORGANIZER;CN="Samada%20Yoo%20Jin%20Jang":MAILTO:cloudb@hanmail.net
END:VEVENT
BEGIN:VEVENT
DTSTART;VALUE=DATE:20191108
DTEND;VALUE=DATE:20191114
DTSTAMP:20260426T022852
CREATED:20190609T071742Z
LAST-MODIFIED:20190609T072133Z
UID:1533-1573171200-1573689599@www.rahasya.com
SUMMARY:Counselling from the Heart\, The Art of Being with People
DESCRIPTION:A Comprehensive Training in Counselling Skills beyond Psychology
URL:https://www.rahasya.com/event/intuitive-counseling-from-being-with-rahasya-2/
LOCATION:Rahasya’s Pool House\, 9/42 Bilin Rd\, Myocum\, New South Wales\, 2481\, Australia
CATEGORIES:Counselling,Trainings
ORGANIZER;CN="Rahasya%20Fritjof%20Kraft":MAILTO:rahasyanura@gmail.com
END:VEVENT
BEGIN:VEVENT
DTSTART;VALUE=DATE:20191101
DTEND;VALUE=DATE:20191104
DTSTAMP:20260426T022852
CREATED:20190919T045603Z
LAST-MODIFIED:20190919T235520Z
UID:1669-1572566400-1572825599@www.rahasya.com
SUMMARY:Counselling from the Heart\, The Art of Being with People part 2
DESCRIPTION:A Comprehensive Training in Counselling Skills beyond Psychology
URL:https://www.rahasya.com/event/counselling-from-the-heart-the-art-of-being-with-people-part-2/
LOCATION:Samada Yoga Center Seoul\, Gireum 1-dong\, seongbuk-gu\, Seoul\, 530-17\, Korea\, Republic of
CATEGORIES:Counselling,Trainings
ORGANIZER;CN="Samada%20Yoo%20Jin%20Jang":MAILTO:cloudb@hanmail.net
END:VEVENT
BEGIN:VEVENT
DTSTART;VALUE=DATE:20190503
DTEND;VALUE=DATE:20190507
DTSTAMP:20260426T022852
CREATED:20190319T051419Z
LAST-MODIFIED:20190425T030748Z
UID:1030-1556841600-1557187199@www.rahasya.com
SUMMARY:Intuitive Counseling from Being with Rahasya - Japan
DESCRIPTION:Intuitive Counseling from Being – Working with people from intuition beyond PsychologyIn these 4 days we will continue to open the channel of our intuition which is open to our infinite source\, and is directly connected the heart center and the third eye or forehead center. With specific teachings\, partner exercises and meditations we learn again to access our intuition and help the person we work with to come to clarity\, understanding and love. Unless we experience and realize that we “are” love\, our strategy patterns to ask for this love from outside are the source of infinite suffering\, unleashing and endless cycle of negative emotions and feeling unfulfilled.. With intuitive counselling from being beyond psychology we can work with our client from a place of presence\, spontaneity and intuitive wisdom\, resonating with- and touching their very essence. We can support that which is of authenticity\, light\, consciousness and presence within. This light can then shine upon any personality issues and reveal healthy resources of how to melt the suffering and meet the challenges in life. We can help the client to experience and remember his/her Being\, which is love and infinite space. We can support the client to experience the direct feeling instead of thinking about it. One moment of fully experiencing anything is the end of suffering and the beginning of joy and peace. These insights will deepen through honest and safe inquiry in partners and small groups that will provide a safe and spacious container to explore what prevents us from living our essential gifts\, and what supports us to recognize the amazing gifts that we have come into this life with. We become authentic. \nThe tools we learn are very beneficial for all life situations: \n• Moving within through different meditation techniques \n• Resting in Being \n• Sharing from Synchronicity \n• Opening to intuition \n• Discovering the steps of energy reading \n• Trusting the unknown • Understanding Awareness \n• Opening the third eye • Exploring and moving beyond projections \n• Opening to creativity and vision \n• Creating a vision for life \nThis course is another step after counselling from the heart and the first intuitive counselling from being. It is open for everyone who is on the path of self discovery. It is also very beneficial for people already working with people\, friends who have participated in the Counselling from the Heart Training and the teachers training\, Aura-Soma practitioners and Aura-Soma teachers. How is this training different from Counselling from the Heart? Counselling from the Heart gives us the basic principles of working with people by resolving issues “from outside in”\, by helping the client to clarify the issue\, by exploring the different layers of resistance\, experiencing the pain or trauma through the body and emotions and discover the empty center at the core of it. Intuitive counselling from Being beyond psychology works “from inside out”. It recognizes that everyone carries many essential qualities (or in Aura-Soma language “gifts” ) that the client may have disconnected from or forgotten. Through intuitive counselling from being beyond psychology these gifts can be reclaimed and recognized as a flowering arising from the mysterious source of life. Just like the essential qualities of a rose\, like beauty\, color\, shape\, fragrance\, are already there in the sprout and in the bud\, so the rose effortlessly grows from within\, surrendering to the Being\, surrendering to the life force that moves it into growth. This “Being” is like the light of consciousness that begins to shine from within and dispels all darkness. Please come and join us for 4 days of deep intuition and inquiry. With Love and Blessings Rahasya
URL:https://www.rahasya.com/event/intuitive-counseling-from-being-with-rahasya/
LOCATION:Osho Art Unity\, 6-32 Yuigihama\, 3 Chome Kamakura - Shi\, Kanagawa - Ken\, 248-0014\, Japan
CATEGORIES:Counselling
ORGANIZER;CN="Osho%20Art%20Unity":MAILTO:info@artunity.com
END:VEVENT
BEGIN:VEVENT
DTSTART;VALUE=DATE:20190427
DTEND;VALUE=DATE:20190430
DTSTAMP:20260426T022852
CREATED:20190319T050907Z
LAST-MODIFIED:20190421T085959Z
UID:1024-1556323200-1556582399@www.rahasya.com
SUMMARY:The Map of Consciousness - Finding your way home
DESCRIPTION:In this 3 days intensive “The Map of Consciousness”\, the model of the layers of the mind\, will help us to have a visual analogy to the mystery of Being\, and understand the relation between Being and our Humanness. It will be pointing us to our true nature\, to our true home as infinite luminous consciousness\, and its expression through our limited human form as all the colors\, turns and experiences of life. As a ”Being” we are one with all of life\, here we are love\, space and peace. As we rest here and invite each other into this space\, we are coming in synchronicity with each other\, and from the spaciousness of Being\, the colors of our unique personalities begin to appear\, held in the loving arms of existence itself. We begin to recognize our “uniqueness” as a “Human” and the “Oneness” of our “Being”\, and out of this recognition and merging arises joy\, love and peace. Our light and our shadow are held in space and we become clear and authentic. Our gifts and limitations are seen as one whole\, all separation disappears in the spaciousness of now. As these impressions are reflected back to each other\, a deep and mysterious healing takes place. We find the way to- and reconnect with our true home that we never left. Come and join us for this 3 days intensive with Rahasya
URL:https://www.rahasya.com/event/the-map-of-consciousness-finding-your-way-home/
LOCATION:Osho Art Unity\, 6-32 Yuigihama\, 3 Chome Kamakura - Shi\, Kanagawa - Ken\, 248-0014\, Japan
CATEGORIES:Counselling
ATTACH;FMTTYPE=image/jpeg:https://www.rahasya.com/wp-content/uploads/2019/03/Layers-of-the-mind-color-new-word-e1560059142816.jpg
ORGANIZER;CN="Osho%20Art%20Unity":MAILTO:info@artunity.com
END:VEVENT
END:VCALENDAR